Package: iSEE Version: 2.19.2 Command: E:\biocbuild\bbs-3.21-bioc\R\bin\R.exe CMD INSTALL iSEE StartedAt: 2025-02-20 16:14:18 -0500 (Thu, 20 Feb 2025) EndedAt: 2025-02-20 16:16:07 -0500 (Thu, 20 Feb 2025) EllapsedTime: 109.0 seconds RetCode: 0 Status: OK