Package: iSEE Version: 2.19.2 Command: chmod a+r iSEE -R && E:\biocbuild\bbs-3.21-bioc\R\bin\R.exe CMD build --keep-empty-dirs --no-resave-data iSEE StartedAt: 2025-02-20 19:30:40 -0500 (Thu, 20 Feb 2025) EndedAt: 2025-02-20 19:34:28 -0500 (Thu, 20 Feb 2025) EllapsedTime: 228.1 seconds RetCode: 0 Status: OK PackageFile: iSEE_2.19.2.tar.gz PackageFileSize: 25.61 MiB