Package: iSEE Version: 2.19.2 Command: /home/biocbuild/bbs-3.21-bioc/R/bin/R CMD check --install=check:iSEE.install-out.txt --library=/home/biocbuild/bbs-3.21-bioc/R/site-library --timings iSEE_2.19.2.tar.gz StartedAt: 2025-02-20 22:58:59 -0500 (Thu, 20 Feb 2025) EndedAt: 2025-02-20 23:06:29 -0500 (Thu, 20 Feb 2025) EllapsedTime: 450.6 seconds RetCode: 0 Status: OK CheckDir: iSEE.Rcheck Warnings: 0