Package: iSEE Version: 2.19.2 Command: /home/biocbuild/bbs-3.21-bioc/R/bin/R CMD build --keep-empty-dirs --no-resave-data iSEE StartedAt: 2025-02-20 17:54:53 -0500 (Thu, 20 Feb 2025) EndedAt: 2025-02-20 17:56:58 -0500 (Thu, 20 Feb 2025) EllapsedTime: 125.1 seconds RetCode: 0 Status: OK PackageFile: iSEE_2.19.2.tar.gz PackageFileSize: 25.61 MiB