Package: iSEE Version: 2.19.2 Command: /Library/Frameworks/R.framework/Resources/bin/R CMD INSTALL iSEE StartedAt: 2025-02-20 15:26:56 -0500 (Thu, 20 Feb 2025) EndedAt: 2025-02-20 15:27:49 -0500 (Thu, 20 Feb 2025) EllapsedTime: 53.3 seconds RetCode: 0 Status: OK