Package: iSEE Version: 2.19.2 Command: /Library/Frameworks/R.framework/Resources/bin/R CMD build --keep-empty-dirs --no-resave-data iSEE StartedAt: 2025-02-20 16:44:01 -0500 (Thu, 20 Feb 2025) EndedAt: 2025-02-20 16:44:53 -0500 (Thu, 20 Feb 2025) EllapsedTime: 52.6 seconds RetCode: 0 Status: OK PackageFile: iSEE_2.19.2.tar.gz PackageFileSize: 25.61 MiB