Package: iPath Version: 1.13.0 Command: /Library/Frameworks/R.framework/Resources/bin/R CMD build --keep-empty-dirs --no-resave-data iPath StartedAt: 2025-02-20 16:43:52 -0500 (Thu, 20 Feb 2025) EndedAt: 2025-02-20 16:44:07 -0500 (Thu, 20 Feb 2025) EllapsedTime: 14.2 seconds RetCode: 0 Status: OK PackageFile: iPath_1.13.0.tar.gz PackageFileSize: 2.989 MiB