Package: iGC Version: 1.37.0 Command: E:\biocbuild\bbs-3.21-bioc\R\bin\R.exe CMD check --no-multiarch --install=check:iGC.install-out.txt --library=E:\biocbuild\bbs-3.21-bioc\R\library --no-vignettes --timings iGC_1.37.0.tar.gz StartedAt: 2025-02-21 02:21:34 -0500 (Fri, 21 Feb 2025) EndedAt: 2025-02-21 02:22:41 -0500 (Fri, 21 Feb 2025) EllapsedTime: 67.8 seconds RetCode: 0 Status: OK CheckDir: iGC.Rcheck Warnings: 0