Package: iGC Version: 1.37.0 Command: /home/biocbuild/bbs-3.21-bioc/R/bin/R CMD INSTALL iGC StartedAt: 2025-02-20 15:06:12 -0500 (Thu, 20 Feb 2025) EndedAt: 2025-02-20 15:06:15 -0500 (Thu, 20 Feb 2025) EllapsedTime: 2.6 seconds RetCode: 0 Status: OK