Package: iGC Version: 1.37.0 Command: /home/biocbuild/bbs-3.21-bioc/R/bin/R CMD build --keep-empty-dirs --no-resave-data iGC StartedAt: 2025-02-20 17:51:15 -0500 (Thu, 20 Feb 2025) EndedAt: 2025-02-20 17:51:40 -0500 (Thu, 20 Feb 2025) EllapsedTime: 25.0 seconds RetCode: 0 Status: OK PackageFile: iGC_1.37.0.tar.gz PackageFileSize: 2.95 MiB