Package: iGC Version: 1.37.0 Command: /Library/Frameworks/R.framework/Resources/bin/R CMD build --keep-empty-dirs --no-resave-data iGC StartedAt: 2025-02-19 17:03:24 -0500 (Wed, 19 Feb 2025) EndedAt: 2025-02-19 17:03:53 -0500 (Wed, 19 Feb 2025) EllapsedTime: 28.5 seconds RetCode: 0 Status: OK PackageFile: iGC_1.37.0.tar.gz PackageFileSize: 2.951 MiB