Package: iClusterPlus Version: 1.43.1 Command: E:\biocbuild\bbs-3.21-bioc\R\bin\R.exe CMD INSTALL iClusterPlus StartedAt: 2025-02-20 15:21:18 -0500 (Thu, 20 Feb 2025) EndedAt: 2025-02-20 15:22:05 -0500 (Thu, 20 Feb 2025) EllapsedTime: 46.9 seconds RetCode: 0 Status: OK