Package: iClusterPlus Version: 1.43.1 Command: /home/biocbuild/bbs-3.21-bioc/R/bin/R CMD INSTALL iClusterPlus StartedAt: 2025-02-20 15:00:53 -0500 (Thu, 20 Feb 2025) EndedAt: 2025-02-20 15:01:18 -0500 (Thu, 20 Feb 2025) EllapsedTime: 24.9 seconds RetCode: 0 Status: OK