Package: iClusterPlus Version: 1.43.1 Command: /Library/Frameworks/R.framework/Resources/bin/R CMD build --keep-empty-dirs --no-resave-data iClusterPlus StartedAt: 2025-02-19 17:02:47 -0500 (Wed, 19 Feb 2025) EndedAt: 2025-02-19 17:03:34 -0500 (Wed, 19 Feb 2025) EllapsedTime: 47.0 seconds RetCode: 0 Status: OK PackageFile: iClusterPlus_1.43.1.tar.gz PackageFileSize: 20.69 MiB