Package: iClusterPlus Version: 1.43.1 Command: rm -rf iClusterPlus.buildbin-libdir && mkdir iClusterPlus.buildbin-libdir && /Users/biocbuild/BBS/utils/build-universal.sh iClusterPlus_1.43.1.tar.gz /Library/Frameworks/R.framework/Resources/bin/R iClusterPlus.buildbin-libdir StartedAt: 2025-02-21 00:35:42 -0500 (Fri, 21 Feb 2025) EndedAt: 2025-02-21 00:36:37 -0500 (Fri, 21 Feb 2025) EllapsedTime: 55.7 seconds RetCode: 0 Status: OK PackageFile: iClusterPlus_1.43.1.tgz PackageFileSize: 16.15 MiB