Package: iChip Version: 1.61.0 Command: chmod a+r iChip -R && E:\biocbuild\bbs-3.21-bioc\R\bin\R.exe CMD build --keep-empty-dirs --no-resave-data iChip StartedAt: 2025-02-20 19:21:59 -0500 (Thu, 20 Feb 2025) EndedAt: 2025-02-20 19:22:54 -0500 (Thu, 20 Feb 2025) EllapsedTime: 55.5 seconds RetCode: 0 Status: OK PackageFile: iChip_1.61.0.tar.gz PackageFileSize: 1.59 MiB