Package: iChip Version: 1.61.0 Command: rm -rf iChip.buildbin-libdir && mkdir iChip.buildbin-libdir && E:\biocbuild\bbs-3.21-bioc\R\bin\R.exe CMD INSTALL --build --library=iChip.buildbin-libdir iChip_1.61.0.tar.gz StartedAt: 2025-02-21 08:18:46 -0500 (Fri, 21 Feb 2025) EndedAt: 2025-02-21 08:19:02 -0500 (Fri, 21 Feb 2025) EllapsedTime: 16.4 seconds RetCode: 0 Status: OK PackageFile: iChip_1.61.0.zip PackageFileSize: 1.809 MiB