Package: iChip Version: 1.61.0 Command: /Library/Frameworks/R.framework/Resources/bin/R CMD INSTALL iChip StartedAt: 2025-02-20 15:06:43 -0500 (Thu, 20 Feb 2025) EndedAt: 2025-02-20 15:07:14 -0500 (Thu, 20 Feb 2025) EllapsedTime: 30.3 seconds RetCode: 0 Status: OK