Package: iChip Version: 1.61.0 Command: /Library/Frameworks/R.framework/Resources/bin/R CMD check --install=check:iChip.install-out.txt --library=/Library/Frameworks/R.framework/Resources/library --no-vignettes --timings iChip_1.61.0.tar.gz StartedAt: 2025-02-20 21:04:09 -0500 (Thu, 20 Feb 2025) EndedAt: 2025-02-20 21:04:54 -0500 (Thu, 20 Feb 2025) EllapsedTime: 44.9 seconds RetCode: 0 Status: WARNINGS CheckDir: iChip.Rcheck Warnings: 1