Package: iChip Version: 1.61.0 Command: /Library/Frameworks/R.framework/Resources/bin/R CMD build --keep-empty-dirs --no-resave-data iChip StartedAt: 2025-02-20 17:02:20 -0500 (Thu, 20 Feb 2025) EndedAt: 2025-02-20 17:02:59 -0500 (Thu, 20 Feb 2025) EllapsedTime: 38.8 seconds RetCode: 0 Status: OK PackageFile: iChip_1.61.0.tar.gz PackageFileSize: 1.707 MiB