Package: iChip Version: 1.61.0 Command: /home/biocbuild/R/R/bin/R CMD build --keep-empty-dirs --no-resave-data iChip StartedAt: 2025-01-28 23:41:15 -0000 (Tue, 28 Jan 2025) EndedAt: 2025-01-28 23:42:04 -0000 (Tue, 28 Jan 2025) EllapsedTime: 49.0 seconds RetCode: 0 Status: OK PackageFile: iChip_1.61.0.tar.gz PackageFileSize: 1.704 MiB