Package: iChip Version: 1.61.0 Command: rm -rf iChip.buildbin-libdir && mkdir iChip.buildbin-libdir && /Users/biocbuild/BBS/utils/build-universal.sh iChip_1.61.0.tar.gz /Library/Frameworks/R.framework/Resources/bin/R iChip.buildbin-libdir StartedAt: 2025-02-20 22:22:20 -0500 (Thu, 20 Feb 2025) EndedAt: 2025-02-20 22:22:24 -0500 (Thu, 20 Feb 2025) EllapsedTime: 3.1 seconds RetCode: 0 Status: OK PackageFile: iChip_1.61.0.tgz PackageFileSize: 1.921 MiB