Package: iCheck Version: 1.37.0 Command: /home/biocbuild/bbs-3.21-bioc/R/bin/R CMD INSTALL iCheck StartedAt: 2025-02-20 16:15:06 -0500 (Thu, 20 Feb 2025) EndedAt: 2025-02-20 16:15:50 -0500 (Thu, 20 Feb 2025) EllapsedTime: 44.2 seconds RetCode: 0 Status: OK