Package: iCheck Version: 1.37.0 Command: /home/biocbuild/bbs-3.21-bioc/R/bin/R CMD check --install=check:iCheck.install-out.txt --library=/home/biocbuild/bbs-3.21-bioc/R/site-library --timings iCheck_1.37.0.tar.gz StartedAt: 2025-02-20 22:50:11 -0500 (Thu, 20 Feb 2025) EndedAt: 2025-02-20 22:55:49 -0500 (Thu, 20 Feb 2025) EllapsedTime: 338.5 seconds RetCode: 0 Status: OK CheckDir: iCheck.Rcheck Warnings: 0