Package: iCheck Version: 1.37.0 Command: /Library/Frameworks/R.framework/Resources/bin/R CMD INSTALL iCheck StartedAt: 2025-02-20 15:44:42 -0500 (Thu, 20 Feb 2025) EndedAt: 2025-02-20 15:45:32 -0500 (Thu, 20 Feb 2025) EllapsedTime: 50.2 seconds RetCode: 0 Status: OK