Package: iCheck Version: 1.37.0 Command: /Library/Frameworks/R.framework/Resources/bin/R CMD build --keep-empty-dirs --no-resave-data iCheck StartedAt: 2025-02-20 17:02:19 -0500 (Thu, 20 Feb 2025) EndedAt: 2025-02-20 17:03:41 -0500 (Thu, 20 Feb 2025) EllapsedTime: 82.3 seconds RetCode: 0 Status: OK PackageFile: iCheck_1.37.0.tar.gz PackageFileSize: 558.8 KiB