Package: iCheck Version: 1.37.0 Command: /home/biocbuild/R/R/bin/R CMD build --keep-empty-dirs --no-resave-data iCheck StartedAt: 2025-01-28 23:40:50 -0000 (Tue, 28 Jan 2025) EndedAt: 2025-01-28 23:42:22 -0000 (Tue, 28 Jan 2025) EllapsedTime: 92.0 seconds RetCode: 0 Status: OK PackageFile: iCheck_1.37.0.tar.gz PackageFileSize: 562.4 KiB