Package: iCOBRA Version: 1.35.1 Command: E:\biocbuild\bbs-3.21-bioc\R\bin\R.exe CMD check --no-multiarch --install=check:iCOBRA.install-out.txt --library=E:\biocbuild\bbs-3.21-bioc\R\library --no-vignettes --timings iCOBRA_1.35.1.tar.gz StartedAt: 2025-02-21 02:20:57 -0500 (Fri, 21 Feb 2025) EndedAt: 2025-02-21 02:23:42 -0500 (Fri, 21 Feb 2025) EllapsedTime: 165.7 seconds RetCode: 0 Status: OK CheckDir: iCOBRA.Rcheck Warnings: 0