Package: iCOBRA Version: 1.35.1 Command: rm -rf iCOBRA.buildbin-libdir && mkdir iCOBRA.buildbin-libdir && E:\biocbuild\bbs-3.21-bioc\R\bin\R.exe CMD INSTALL --build --library=iCOBRA.buildbin-libdir iCOBRA_1.35.1.tar.gz StartedAt: 2025-02-21 08:18:53 -0500 (Fri, 21 Feb 2025) EndedAt: 2025-02-21 08:20:26 -0500 (Fri, 21 Feb 2025) EllapsedTime: 93.0 seconds RetCode: 0 Status: OK PackageFile: iCOBRA_1.35.1.zip PackageFileSize: 2.41 MiB