Package: iCOBRA Version: 1.35.1 Command: /home/biocbuild/bbs-3.21-bioc/R/bin/R CMD check --install=check:iCOBRA.install-out.txt --library=/home/biocbuild/bbs-3.21-bioc/R/site-library --timings iCOBRA_1.35.1.tar.gz StartedAt: 2025-02-19 23:11:37 -0500 (Wed, 19 Feb 2025) EndedAt: 2025-02-19 23:13:32 -0500 (Wed, 19 Feb 2025) EllapsedTime: 115.2 seconds RetCode: 0 Status: OK CheckDir: iCOBRA.Rcheck Warnings: 0