Package: iCOBRA Version: 1.35.1 Command: /Library/Frameworks/R.framework/Resources/bin/R CMD INSTALL iCOBRA StartedAt: 2025-02-19 15:27:00 -0500 (Wed, 19 Feb 2025) EndedAt: 2025-02-19 15:27:16 -0500 (Wed, 19 Feb 2025) EllapsedTime: 16.0 seconds RetCode: 0 Status: OK