Package: iCOBRA Version: 1.35.1 Command: /Library/Frameworks/R.framework/Resources/bin/R CMD check --install=check:iCOBRA.install-out.txt --library=/Library/Frameworks/R.framework/Resources/library --no-vignettes --timings iCOBRA_1.35.1.tar.gz StartedAt: 2025-02-19 21:04:41 -0500 (Wed, 19 Feb 2025) EndedAt: 2025-02-19 21:06:53 -0500 (Wed, 19 Feb 2025) EllapsedTime: 132.5 seconds RetCode: 0 Status: OK CheckDir: iCOBRA.Rcheck Warnings: 0