Package: iCOBRA Version: 1.35.1 Command: /Library/Frameworks/R.framework/Resources/bin/R CMD INSTALL iCOBRA StartedAt: 2025-02-20 15:17:54 -0500 (Thu, 20 Feb 2025) EndedAt: 2025-02-20 15:17:59 -0500 (Thu, 20 Feb 2025) EllapsedTime: 5.1 seconds RetCode: 0 Status: OK