Package: iCNV Version: 1.27.0 Command: chmod a+r iCNV -R && E:\biocbuild\bbs-3.21-bioc\R\bin\R.exe CMD build --keep-empty-dirs --no-resave-data iCNV StartedAt: 2025-02-17 19:13:15 -0500 (Mon, 17 Feb 2025) EndedAt: 2025-02-17 19:18:26 -0500 (Mon, 17 Feb 2025) EllapsedTime: 311.5 seconds RetCode: 0 Status: OK PackageFile: iCNV_1.27.0.tar.gz PackageFileSize: 1.765 MiB