Package: iCNV Version: 1.27.0 Command: /home/biocbuild/bbs-3.21-bioc/R/bin/R CMD build --keep-empty-dirs --no-resave-data iCNV StartedAt: 2025-02-17 17:39:47 -0500 (Mon, 17 Feb 2025) EndedAt: 2025-02-17 17:41:59 -0500 (Mon, 17 Feb 2025) EllapsedTime: 132.2 seconds RetCode: 0 Status: OK PackageFile: iCNV_1.27.0.tar.gz PackageFileSize: 2.227 MiB