Package: iCNV Version: 1.27.0 Command: /home/biocbuild/R/R/bin/R CMD INSTALL iCNV StartedAt: 2025-01-29 19:55:26 -0000 (Wed, 29 Jan 2025) EndedAt: 2025-01-29 19:56:11 -0000 (Wed, 29 Jan 2025) EllapsedTime: 45.5 seconds RetCode: 0 Status: OK