Package: iCARE Version: 1.35.0 Command: /home/biocbuild/bbs-3.21-bioc/R/bin/R CMD INSTALL iCARE StartedAt: 2025-02-20 15:14:33 -0500 (Thu, 20 Feb 2025) EndedAt: 2025-02-20 15:14:40 -0500 (Thu, 20 Feb 2025) EllapsedTime: 6.8 seconds RetCode: 0 Status: OK