Package: iBMQ Version: 1.47.0 Command: E:\biocbuild\bbs-3.21-bioc\R\bin\R.exe CMD INSTALL iBMQ StartedAt: 2025-02-20 15:28:25 -0500 (Thu, 20 Feb 2025) EndedAt: 2025-02-20 15:28:48 -0500 (Thu, 20 Feb 2025) EllapsedTime: 23.5 seconds RetCode: 0 Status: OK