Package: iBMQ Version: 1.47.0 Command: E:\biocbuild\bbs-3.21-bioc\R\bin\R.exe CMD check --no-multiarch --install=check:iBMQ.install-out.txt --library=E:\biocbuild\bbs-3.21-bioc\R\library --no-vignettes --timings iBMQ_1.47.0.tar.gz StartedAt: 2025-02-21 02:19:51 -0500 (Fri, 21 Feb 2025) EndedAt: 2025-02-21 02:20:57 -0500 (Fri, 21 Feb 2025) EllapsedTime: 65.7 seconds RetCode: 0 Status: OK CheckDir: iBMQ.Rcheck Warnings: 0