Package: iBBiG Version: 1.51.0 Command: E:\biocbuild\bbs-3.21-bioc\R\bin\R.exe CMD INSTALL iBBiG StartedAt: 2025-02-20 16:11:04 -0500 (Thu, 20 Feb 2025) EndedAt: 2025-02-20 16:11:29 -0500 (Thu, 20 Feb 2025) EllapsedTime: 25.0 seconds RetCode: 0 Status: OK