Package: iBBiG Version: 1.51.0 Command: /Library/Frameworks/R.framework/Resources/bin/R CMD INSTALL iBBiG StartedAt: 2025-02-20 15:24:28 -0500 (Thu, 20 Feb 2025) EndedAt: 2025-02-20 15:24:31 -0500 (Thu, 20 Feb 2025) EllapsedTime: 3.4 seconds RetCode: 0 Status: OK