Package: iASeq Version: 1.51.0 Command: /Library/Frameworks/R.framework/Resources/bin/R CMD INSTALL iASeq StartedAt: 2025-02-19 15:45:00 -0500 (Wed, 19 Feb 2025) EndedAt: 2025-02-19 15:45:04 -0500 (Wed, 19 Feb 2025) EllapsedTime: 3.8 seconds RetCode: 0 Status: OK