Package: iASeq Version: 1.51.0 Command: /Library/Frameworks/R.framework/Resources/bin/R CMD INSTALL iASeq StartedAt: 2025-02-19 15:30:05 -0500 (Wed, 19 Feb 2025) EndedAt: 2025-02-19 15:30:06 -0500 (Wed, 19 Feb 2025) EllapsedTime: 1.0 seconds RetCode: 0 Status: OK