Package: hypergraph Version: 1.79.0 Command: E:\biocbuild\bbs-3.21-bioc\R\bin\R.exe CMD INSTALL hypergraph StartedAt: 2025-02-19 15:24:15 -0500 (Wed, 19 Feb 2025) EndedAt: 2025-02-19 15:24:35 -0500 (Wed, 19 Feb 2025) EllapsedTime: 20.5 seconds RetCode: 0 Status: OK