Package: hypergraph Version: 1.79.0 Command: /Library/Frameworks/R.framework/Resources/bin/R CMD INSTALL hypergraph StartedAt: 2025-02-19 15:05:26 -0500 (Wed, 19 Feb 2025) EndedAt: 2025-02-19 15:05:46 -0500 (Wed, 19 Feb 2025) EllapsedTime: 20.1 seconds RetCode: 0 Status: OK