Package: hypergraph Version: 1.80.0 Command: rm -rf hypergraph.buildbin-libdir && mkdir hypergraph.buildbin-libdir && /Users/biocbuild/BBS/utils/build-universal.sh hypergraph_1.80.0.tar.gz /Library/Frameworks/R.framework/Resources/bin/R hypergraph.buildbin-libdir StartedAt: 2025-10-15 18:53:28 -0400 (Wed, 15 Oct 2025) EndedAt: 2025-10-15 18:53:33 -0400 (Wed, 15 Oct 2025) EllapsedTime: 5.7 seconds RetCode: 0 Status: OK PackageFile: hypergraph_1.80.0.tgz PackageFileSize: 168.8 KiB