Package: hyperdraw Version: 1.59.0 Command: /home/biocbuild/R/R/bin/R CMD build --keep-empty-dirs --no-resave-data hyperdraw StartedAt: 2025-01-28 23:40:32 -0000 (Tue, 28 Jan 2025) EndedAt: 2025-01-28 23:40:43 -0000 (Tue, 28 Jan 2025) EllapsedTime: 11.0 seconds RetCode: 0 Status: OK PackageFile: hyperdraw_1.59.0.tar.gz PackageFileSize: 197.4 KiB