Package: hyperdraw Version: 1.59.0 Command: /Library/Frameworks/R.framework/Resources/bin/R CMD build --keep-empty-dirs --no-resave-data hyperdraw StartedAt: 2025-02-20 16:39:51 -0500 (Thu, 20 Feb 2025) EndedAt: 2025-02-20 16:39:57 -0500 (Thu, 20 Feb 2025) EllapsedTime: 6.1 seconds RetCode: 0 Status: OK PackageFile: hyperdraw_1.59.0.tar.gz PackageFileSize: 204.2 KiB