Package: hypeR Version: 2.5.0 Command: /home/biocbuild/bbs-3.21-bioc/R/bin/R CMD check --install=check:hypeR.install-out.txt --library=/home/biocbuild/bbs-3.21-bioc/R/site-library --timings hypeR_2.5.0.tar.gz StartedAt: 2025-02-20 22:48:37 -0500 (Thu, 20 Feb 2025) EndedAt: 2025-02-20 22:51:00 -0500 (Thu, 20 Feb 2025) EllapsedTime: 143.2 seconds RetCode: 0 Status: WARNINGS CheckDir: hypeR.Rcheck Warnings: 2