Package: hypeR Version: 2.5.0 Command: /Library/Frameworks/R.framework/Resources/bin/R CMD INSTALL hypeR StartedAt: 2025-02-20 15:40:48 -0500 (Thu, 20 Feb 2025) EndedAt: 2025-02-20 15:41:01 -0500 (Thu, 20 Feb 2025) EllapsedTime: 13.1 seconds RetCode: 0 Status: OK